BEGIN:VCALENDAR
VERSION:2.0
PRODID:-//Talks.cam//talks.cam.ac.uk//
X-WR-CALNAME:Talks.cam
BEGIN:VEVENT
SUMMARY:Regulation of neural stem cell fates in the Drosophila optic lobe 
 - Boris Egger\, Gurdon Institute\, Cambridge
DTSTART:20100224T160000Z
DTEND:20100224T164500Z
UID:TALK23216@talks.cam.ac.uk
CONTACT:Jimena Berni
DESCRIPTION:Abstract not available
LOCATION:Gurdon Institute Tea Room
END:VEVENT
END:VCALENDAR
