BEGIN:VCALENDAR
VERSION:2.0
PRODID:-//Talks.cam//talks.cam.ac.uk//
X-WR-CALNAME:Talks.cam
BEGIN:VEVENT
SUMMARY:Numerical solution of Riemann–Hilbert problems\, Painlevé trans
 cendentals\, oscillatory integrals and oscillatory ODEs - Sheehan Olver (O
 xford)
DTSTART:20100210T160000Z
DTEND:20100210T170000Z
UID:TALK23224@talks.cam.ac.uk
CONTACT:6743
DESCRIPTION:Abstract not available
LOCATION:MR4\, CMS
END:VEVENT
END:VCALENDAR
