BEGIN:VCALENDAR
VERSION:2.0
PRODID:-//Talks.cam//talks.cam.ac.uk//
X-WR-CALNAME:Talks.cam
BEGIN:VEVENT
SUMMARY:title - Speaker to be confirmed
DTSTART:20250708T160000Z
DTEND:20250708T164500Z
UID:TALK234148@talks.cam.ac.uk
CONTACT:Pietro Lio
DESCRIPTION:Abstract not available
LOCATION:Lecture Theatre 2\, Computer Laboratory\, William Gates Building
END:VEVENT
END:VCALENDAR
