BEGIN:VCALENDAR
VERSION:2.0
PRODID:-//Talks.cam//talks.cam.ac.uk//
X-WR-CALNAME:Talks.cam
BEGIN:VEVENT
SUMMARY:EXTRA SEMINAR - &quot\;Two special one-off talks: FMRI correlates 
 of interference and inhibition in episodic memory&quot\; (Wimber) &quot\;B
 rain oscillatory correlates of interference and inhibition in episodic mem
 ory&quot\; (Hanslmayr) -  Dr Maria Wimber from the Otto von Guericke Unive
 rsity Magdeburg\, Germany and Dr Simon Hanslmayr from the University of Re
 gensburg\, Germany
DTSTART:20100308T150000Z
DTEND:20100308T161500Z
UID:TALK23441@talks.cam.ac.uk
CONTACT:Nicola Richmond
DESCRIPTION:Abstract not available
LOCATION:Kenneth Craik Room\, Craik Marshall Building\, Downing Site
END:VEVENT
END:VCALENDAR
