BEGIN:VCALENDAR
VERSION:2.0
PRODID:-//Talks.cam//talks.cam.ac.uk//
X-WR-CALNAME:Talks.cam
BEGIN:VEVENT
SUMMARY:Groups\, automata and C*-algebras. - Alina Vdovina (City College o
 f New York)
DTSTART:20250721T130000Z
DTEND:20250721T140000Z
UID:TALK234472@talks.cam.ac.uk
DESCRIPTION:\nWe will present several examples of groups arising from acti
 ons on trees and buildings\, both well known and new ones. The structure o
 f the underlying space is used to analyse the C*-algebras associated to th
 e actions.&nbsp\;\nThe talk is based on joint results with Ben Steinberg\,
  Eusebio Gardella\, Nadia Larsen\, Mark Lawson and Volodymyr Nekrashevich.
 \nThis seminar will take place at Queen's University Belfast\, in MAPTC ro
 om 0G.017.\n
LOCATION:External
END:VEVENT
END:VCALENDAR
