BEGIN:VCALENDAR
VERSION:2.0
PRODID:-//Talks.cam//talks.cam.ac.uk//
X-WR-CALNAME:Talks.cam
BEGIN:VEVENT
SUMMARY:Effects of alpha-effect fluctuations on simple nonlinear dynamo mo
 dels - Katy Richardson (DAMTP)
DTSTART:20100607T150000Z
DTEND:20100607T160000Z
UID:TALK23599@talks.cam.ac.uk
CONTACT:Dr Geoffroy Lesur
DESCRIPTION:Abstract not available
LOCATION:MR14\, DAMTP\, Pav. F
END:VEVENT
END:VCALENDAR
