BEGIN:VCALENDAR
VERSION:2.0
PRODID:-//Talks.cam//talks.cam.ac.uk//
X-WR-CALNAME:Talks.cam
BEGIN:VEVENT
SUMMARY:Revealing the artists’ secrets: combining humanities with scienc
 e - Professor Erma Hermens\, Hamilton Kerr Institute for Easel Painting Co
 nservation\; Fitzwilliam Museum
DTSTART:20251103T193000Z
DTEND:20251103T210000Z
UID:TALK236134@talks.cam.ac.uk
CONTACT:John Cook
DESCRIPTION:All welcome. More details\, including a booking link\, are "he
 re":https://www.csar.org.uk/lectures .
LOCATION:Location: Wolfson Lecture Theatre\, Churchill College\, and Zoom
END:VEVENT
END:VCALENDAR
