BEGIN:VCALENDAR
VERSION:2.0
PRODID:-//Talks.cam//talks.cam.ac.uk//
X-WR-CALNAME:Talks.cam
BEGIN:VEVENT
SUMMARY:UM 673: A Unique System to Study the Properties of Damped Lyman-al
 pha Systems - Ryan Cooke (IoA)
DTSTART:20100428T121500Z
DTEND:20100428T124500Z
UID:TALK23676@talks.cam.ac.uk
CONTACT:Dr Jonathan Gair
DESCRIPTION:Abstract not available
LOCATION:Sackler Lecture Theatre\, IoA
END:VEVENT
END:VCALENDAR
