BEGIN:VCALENDAR
VERSION:2.0
PRODID:-//Talks.cam//talks.cam.ac.uk//
X-WR-CALNAME:Talks.cam
BEGIN:VEVENT
SUMMARY:CANCELLED: Greg Fournier on Genetic Clocks - Greg Fournier (EAPS\,
  MIT)
DTSTART:20260219T110000Z
DTEND:20260219T120000Z
UID:TALK236905@talks.cam.ac.uk
CONTACT:Paul B. Rimmer
DESCRIPTION:Feel free to show up and chat!
LOCATION:Thirkill Room\, Old Court\, Clare College
END:VEVENT
END:VCALENDAR
