BEGIN:VCALENDAR
VERSION:2.0
PRODID:-//Talks.cam//talks.cam.ac.uk//
X-WR-CALNAME:Talks.cam
BEGIN:VEVENT
SUMMARY:Integrable 1/2 BPS Nahm pole defects in N = 4 SYM - Charlotte Kris
 tjansen (Niels Bohr Institutet\, University of Copenhagen)
DTSTART:20251027T140000Z
DTEND:20251027T150000Z
UID:TALK236944@talks.cam.ac.uk
DESCRIPTION:We will give an overview of the integrability properties of &f
 rac12\; BPS Nahm pole defects\nin N=4 SYM paying special attention to the 
 case of Gukov-Witten surface defects which\nhave only recently been studie
 d in the integrability context. Furthermore\, we will\ndiscuss how localiz
 ation results for one-point functions in these set-ups reveal an\nintrigui
 ng structure of perturbation theory.
LOCATION:Seminar Room 1\, Newton Institute
END:VEVENT
END:VCALENDAR
