BEGIN:VCALENDAR
VERSION:2.0
PRODID:-//Talks.cam//talks.cam.ac.uk//
X-WR-CALNAME:Talks.cam
BEGIN:VEVENT
SUMMARY:Interpolating Abelian and Non-Abelian Codes for Non-Clifford Opera
 tions - Sheng-Jie Huang (University of Oxford)
DTSTART:20251028T113000Z
DTEND:20251028T123000Z
UID:TALK236965@talks.cam.ac.uk
DESCRIPTION:Implementing logical non-Clifford gates efficiently remains a 
 major challenge for universal fault-tolerant quantum computing\, especiall
 y in high-threshold codes like the surface code. In this talk\, I will pre
 sent a framework that includes code switching and hybrid lattice surgery b
 etween Abelian and non-Abelian topological codes. I will show how these te
 chniques provide non-Clifford operations in the standard surface code\, ei
 ther through magic-state generation or non-Clifford gate teleportation.
LOCATION:Seminar Room 1\, Newton Institute
END:VEVENT
END:VCALENDAR
