BEGIN:VCALENDAR
VERSION:2.0
PRODID:-//Talks.cam//talks.cam.ac.uk//
X-WR-CALNAME:Talks.cam
BEGIN:VEVENT
SUMMARY:Jane Street: How to monitor systems that trade billions of dollars
  a day - Pedro\, Jane Street Software Engineer
DTSTART:20251103T130500Z
DTEND:20251103T135500Z
UID:TALK237205@talks.cam.ac.uk
CONTACT:Ben Karniely
DESCRIPTION:In this talk\, we will talk about what it’s like to monitor 
 software that trade billions of dollars a day on stock markets around the 
 world. We will discuss what matters in these environments where nanosecond
 s matter and the physical location of your server can make the difference 
 between making or losing money. We will focus on the practice of Productio
 n Engineering in these high-complexity environments.\n\nWhen: Monday\, 3rd
  November at 1:00pm GMT\n\nWhere: On Campus\, University of Cambridge\n\nW
 ho: University of Cambridge students curious about Jane Street \n\nRegiste
 r here (https://docs.google.com/forms/d/e/1FAIpQLSedDZ7KDEhkzzdgj_NshsSoKy
 16fpywq1gAzI7Je4kA_Ts3mA/viewform) to hear from Pedro\, and\, of course\, 
 grab some food and swag! \n\nWe will confirm attendees by EOD on Friday\, 
 31st October.\n \nPlease note this event has limited capacity.\n\nSome cat
 ering will be provided
LOCATION:LT1\, Computer Laboratory\, William Gates Building
END:VEVENT
END:VCALENDAR
