BEGIN:VCALENDAR
VERSION:2.0
PRODID:-//Talks.cam//talks.cam.ac.uk//
X-WR-CALNAME:Talks.cam
BEGIN:VEVENT
SUMMARY:Gearset: A Day in the Life of a Software Engineer at Gearset - Joe
  Lawry Short
DTSTART:20251117T130500Z
DTEND:20251117T135500Z
UID:TALK237208@talks.cam.ac.uk
CONTACT:Ben Karniely
DESCRIPTION:Find out what it's like to build and ship software at scale at
  Cambridge's fastest-growing tech company\, with Joe Lawry Short\n\nPlease
  register for the talk at the following link: https://forms.gle/K2seHb8t4N
 R8oLcb6 \n\nSome catering will be provided.
LOCATION:FW26\, William Gates Building
END:VEVENT
END:VCALENDAR
