BEGIN:VCALENDAR
VERSION:2.0
PRODID:-//Talks.cam//talks.cam.ac.uk//
X-WR-CALNAME:Talks.cam
BEGIN:VEVENT
SUMMARY:Bumblebees and honeybees in shared landscapes - Nynke Blömer\, De
 partment of Zoology
DTSTART:20251106T130000Z
DTEND:20251106T140000Z
UID:TALK237313@talks.cam.ac.uk
CONTACT:Alexander R Epstein
DESCRIPTION:Abstract not available
LOCATION:Richard King room\, Darwin College
END:VEVENT
END:VCALENDAR
