BEGIN:VCALENDAR
VERSION:2.0
PRODID:-//Talks.cam//talks.cam.ac.uk//
X-WR-CALNAME:Talks.cam
BEGIN:VEVENT
SUMMARY:Kolmogorov equations in Hilbert spaces II - Da Prato\, G (Scuola N
 ormale Superiore di Pisa)
DTSTART:20100319T110000Z
DTEND:20100319T123000Z
UID:TALK23765@talks.cam.ac.uk
CONTACT:Mustapha Amrani
DESCRIPTION:
LOCATION:Seminar Room 1\, Newton Institute
END:VEVENT
END:VCALENDAR
