BEGIN:VCALENDAR
VERSION:2.0
PRODID:-//Talks.cam//talks.cam.ac.uk//
X-WR-CALNAME:Talks.cam
BEGIN:VEVENT
SUMMARY:Large-scale drivers and spatial variability of extreme sea level o
 n the European Shelf - Lisanne Blok
DTSTART:20251107T160000Z
DTEND:20251107T170000Z
UID:TALK237787@talks.cam.ac.uk
CONTACT:David Al-Attar
DESCRIPTION:Abstract not available
LOCATION:Tea Room\, Old House
END:VEVENT
END:VCALENDAR
