BEGIN:VCALENDAR
VERSION:2.0
PRODID:-//Talks.cam//talks.cam.ac.uk//
X-WR-CALNAME:Talks.cam
BEGIN:VEVENT
SUMMARY:A discussion of ‘The great conservation tragedy? - 30 × 30’s 
 (neo)protectionism’ - Bram Büscher (Wageningen)
DTSTART:20251016T120000Z
DTEND:20251016T130000Z
UID:TALK238087@talks.cam.ac.uk
CONTACT:María Inés Hernández
DESCRIPTION:We begin next week\, on Thursday 16 October\, with a discussio
 n with Bram Büscher on his paper\, “The great conservation tragedy? A c
 ritical reflection on (neo)protectionism in relation to the ‘30×30’ g
 lobal biodiversity framework”.  With Matthew Gandy and Alex Cullen as ou
 r main discussants\, we look forward to an engaging session.\n\nParticipan
 ts are encouraged to read the paper ahead of time. 
LOCATION:Department of Geography\, Small Lecture Theatre
END:VEVENT
END:VCALENDAR
