BEGIN:VCALENDAR
VERSION:2.0
PRODID:-//Talks.cam//talks.cam.ac.uk//
X-WR-CALNAME:Talks.cam
BEGIN:VEVENT
SUMMARY:Challenges to engagement with indigenous expertise in Northeast In
 dia - Rajindra Puri (Kent and Kew)
DTSTART:20251104T130000Z
DTEND:20251104T140000Z
UID:TALK238099@talks.cam.ac.uk
CONTACT:María Inés Hernández
DESCRIPTION:Abstract not available
LOCATION:Department of Geography\, Small Lecture Theatre
END:VEVENT
END:VCALENDAR
