BEGIN:VCALENDAR
VERSION:2.0
PRODID:-//Talks.cam//talks.cam.ac.uk//
X-WR-CALNAME:Talks.cam
BEGIN:VEVENT
SUMMARY:Kavli Introductory Talks - Carrie MacTavish\, Lindsay King and Ian
  McCarthy
DTSTART:20100319T140000Z
DTEND:20100319T150000Z
UID:TALK23826@talks.cam.ac.uk
CONTACT:Paula younger
DESCRIPTION:Abstract not available
LOCATION:Martin Ryle Room
END:VEVENT
END:VCALENDAR
