BEGIN:VCALENDAR
VERSION:2.0
PRODID:-//Talks.cam//talks.cam.ac.uk//
X-WR-CALNAME:Talks.cam
BEGIN:VEVENT
SUMMARY:Kolmogorov equations in Hilbert spaces III - Da Prato\, G (Scuola 
 Normale Superiore di Pisa)
DTSTART:20100325T110000Z
DTEND:20100325T123000Z
UID:TALK23845@talks.cam.ac.uk
CONTACT:Mustapha Amrani
DESCRIPTION:
LOCATION:Seminar Room 2\, Newton Institute Gatehouse
END:VEVENT
END:VCALENDAR
