BEGIN:VCALENDAR
VERSION:2.0
PRODID:-//Talks.cam//talks.cam.ac.uk//
X-WR-CALNAME:Talks.cam
BEGIN:VEVENT
SUMMARY:Closing remarks - Milla Kibble (Isaac Newton Institute)\, Clare Me
 rritt (Newton Gateway to Mathematics)
DTSTART:20260109T143000Z
DTEND:20260109T144500Z
UID:TALK238705@talks.cam.ac.uk
DESCRIPTION:
LOCATION:Seminar Room 1\, Newton Institute
END:VEVENT
END:VCALENDAR
