BEGIN:VCALENDAR
VERSION:2.0
PRODID:-//Talks.cam//talks.cam.ac.uk//
X-WR-CALNAME:Talks.cam
BEGIN:VEVENT
SUMMARY:Session 1 Chair's Introduction - Ulrike Tillmann (Isaac Newton Ins
 titute)
DTSTART:20251117T134000Z
DTEND:20251117T134500Z
UID:TALK238738@talks.cam.ac.uk
DESCRIPTION:
LOCATION:Seminar Room 1\, Newton Institute
END:VEVENT
END:VCALENDAR
