BEGIN:VCALENDAR
VERSION:2.0
PRODID:-//Talks.cam//talks.cam.ac.uk//
X-WR-CALNAME:Talks.cam
BEGIN:VEVENT
SUMMARY:Panel Discussion on Next Steps - How can we keep pace with future 
 developments? - Paul Glendinning (University of Manchester)\, Stephen Lang
 don (Brunel University)\, Mary McAlinden (Nottingham Trent University)\, R
 achel Hilliam (The Open University)\, Antonia Wilmot-Smith
DTSTART:20251118T120000Z
DTEND:20251118T125000Z
UID:TALK238798@talks.cam.ac.uk
DESCRIPTION:
LOCATION:Seminar Room 1\, Newton Institute
END:VEVENT
END:VCALENDAR
