BEGIN:VCALENDAR
VERSION:2.0
PRODID:-//Talks.cam//talks.cam.ac.uk//
X-WR-CALNAME:Talks.cam
BEGIN:VEVENT
SUMMARY:Session V – What is its Structure? - Shaoxia Chen and Giuseppe C
 annone MRC-LMB
DTSTART:20251118T150000Z
DTEND:20251118T153000Z
UID:TALK239437@talks.cam.ac.uk
CONTACT:127678
DESCRIPTION:Cryo-electron Microscopy and Tomography
LOCATION:Max Perutz Lecture Theatre MRC-LMB (CB2 0QH)
END:VEVENT
END:VCALENDAR
