BEGIN:VCALENDAR
VERSION:2.0
PRODID:-//Talks.cam//talks.cam.ac.uk//
X-WR-CALNAME:Talks.cam
BEGIN:VEVENT
SUMMARY:The role of transcription factors in cancer - Prof Jason Carroll\,
  CRUK Cambridge Institute
DTSTART:20260129T093000Z
DTEND:20260129T103000Z
UID:TALK240304@talks.cam.ac.uk
CONTACT:Justin Holt
DESCRIPTION:Abstract not available
LOCATION:Theo Chalmers Lecture Theatre (LT2) School of Clinical Medicine
END:VEVENT
END:VCALENDAR
