BEGIN:VCALENDAR
VERSION:2.0
PRODID:-//Talks.cam//talks.cam.ac.uk//
X-WR-CALNAME:Talks.cam
BEGIN:VEVENT
SUMMARY:Gauging non-invertible symmetries in 2+1d TQFTs - Mahesh K N Balas
 ubramanian (Queen Mary University of London)
DTSTART:20251110T100000Z
DTEND:20251110T113000Z
UID:TALK240502@talks.cam.ac.uk
DESCRIPTION:We will discuss non-invertible 0-form symmetries of 3d TQFTs a
 nd their gauging from the perspective of anyon condensation\, topological 
 domain walls\, and separable algebras in fusion 2-categories\, with exampl
 es in 2+1d Z_2 gauge theory.
LOCATION:Seminar Room 2\, Newton Institute
END:VEVENT
END:VCALENDAR
