BEGIN:VCALENDAR
VERSION:2.0
PRODID:-//Talks.cam//talks.cam.ac.uk//
X-WR-CALNAME:Talks.cam
BEGIN:VEVENT
SUMMARY:Grammaticalization as analogically driven change - Olga Fischer (U
 niversity of Amsterdam / ACLC)
DTSTART:20100510T130000Z
DTEND:20100510T134500Z
UID:TALK24062@talks.cam.ac.uk
CONTACT:Petros Karatsareas
DESCRIPTION:Abstract not available
LOCATION:Bowett Room\, Queens’ College\, Cambridge
END:VEVENT
END:VCALENDAR
