BEGIN:VCALENDAR
VERSION:2.0
PRODID:-//Talks.cam//talks.cam.ac.uk//
X-WR-CALNAME:Talks.cam
BEGIN:VEVENT
SUMMARY:Prof Caetano Reis e Sousa\, Head of Immunobiology Laboratory\, Fra
 ncis Crick Institute - Prof Caetano Reis e Sousa\, Head of Immunobiology L
 aboratory\, Francis Crick Institute
DTSTART:20260521T150000Z
DTEND:20260521T160000Z
UID:TALK241444@talks.cam.ac.uk
CONTACT:Liat Churley
DESCRIPTION:*Host* Prof Menna Clatworthy\, CITIID Director
LOCATION: Lecture Theatre\, Jeffrey Cheah Biomedical Centre\, Cambridge Bi
 omedical Campus
END:VEVENT
END:VCALENDAR
