BEGIN:VCALENDAR
VERSION:2.0
PRODID:-//Talks.cam//talks.cam.ac.uk//
X-WR-CALNAME:Talks.cam
BEGIN:VEVENT
SUMMARY:‘The problems of dog breeding’ - Patrick Bateson (University o
 f Cambridge)
DTSTART:20100421T113000Z
DTEND:20100421T123000Z
UID:TALK24315@talks.cam.ac.uk
CONTACT:Diane Pearce
DESCRIPTION:Abstract not available
LOCATION:Library\, Sub-Department of Animal Behaviour\, Madingley
END:VEVENT
END:VCALENDAR
