BEGIN:VCALENDAR
VERSION:2.0
PRODID:-//Talks.cam//talks.cam.ac.uk//
X-WR-CALNAME:Talks.cam
BEGIN:VEVENT
SUMMARY:Postdoc Talks - Postdocs
DTSTART:20260220T160000Z
DTEND:20260220T170000Z
UID:TALK243394@talks.cam.ac.uk
CONTACT:Duncan Hewitt
DESCRIPTION:Schedule & Abstracts TBC
LOCATION:MR2
END:VEVENT
END:VCALENDAR
