BEGIN:VCALENDAR
VERSION:2.0
PRODID:-//Talks.cam//talks.cam.ac.uk//
X-WR-CALNAME:Talks.cam
BEGIN:VEVENT
SUMMARY:Title to be confirmed - Professor Basile Curchod\, University of B
 ristol
DTSTART:20260527T133000Z
DTEND:20260527T143000Z
UID:TALK243607@talks.cam.ac.uk
CONTACT:Lisa Masters
DESCRIPTION:Abstract not available
LOCATION:Wolfson Lecture Theatre\, Yusuf Hamied Department of Chemistry
END:VEVENT
END:VCALENDAR
