BEGIN:VCALENDAR
VERSION:2.0
PRODID:-//Talks.cam//talks.cam.ac.uk//
X-WR-CALNAME:Talks.cam
BEGIN:VEVENT
SUMMARY:Knowledge Exchange Session: Usefulness of partial identification a
 nd causal inference methods in the real world - Jakob Zeitler (University 
 of Oxford)
DTSTART:20260312T140000Z
DTEND:20260312T150000Z
UID:TALK245620@talks.cam.ac.uk
DESCRIPTION:
LOCATION:Seminar Room 2\, Newton Institute
END:VEVENT
END:VCALENDAR
