BEGIN:VCALENDAR
VERSION:2.0
PRODID:-//Talks.cam//talks.cam.ac.uk//
X-WR-CALNAME:Talks.cam
BEGIN:VEVENT
SUMMARY:When to stop supporting technologies - Rutger-Jan Lange (EPRG)
DTSTART:20100426T113000Z
DTEND:20100426T130000Z
UID:TALK24572@talks.cam.ac.uk
CONTACT:Yi-Jun Lin
DESCRIPTION:Abstract not available
LOCATION:Castle Teaching Room
END:VEVENT
END:VCALENDAR
