BEGIN:VCALENDAR
VERSION:2.0
PRODID:-//Talks.cam//talks.cam.ac.uk//
X-WR-CALNAME:Talks.cam
BEGIN:VEVENT
SUMMARY:Cooperation in Nature - Professor Stuart West\, University of Oxfo
 rd
DTSTART:20270129T173000Z
DTEND:20270129T183000Z
UID:TALK245887@talks.cam.ac.uk
CONTACT:Janet Gibson
DESCRIPTION:Abstract not available
LOCATION:Lady Mitchell Hall\, Sidgwick Avenue
END:VEVENT
END:VCALENDAR
