BEGIN:VCALENDAR
VERSION:2.0
PRODID:-//Talks.cam//talks.cam.ac.uk//
X-WR-CALNAME:Talks.cam
BEGIN:VEVENT
SUMMARY:An Afternoon of Talks by 2nd Year Students - Various
DTSTART:20100528T134500Z
DTEND:20100528T160000Z
UID:TALK24623@talks.cam.ac.uk
CONTACT:Raymond E. Goldstein
DESCRIPTION:Abstract not available
LOCATION:MR2\, Centre for Mathematical Sciences\, Wilberforce Road\, Cambr
 idge
END:VEVENT
END:VCALENDAR
