BEGIN:VCALENDAR
VERSION:2.0
PRODID:-//Talks.cam//talks.cam.ac.uk//
X-WR-CALNAME:Talks.cam
BEGIN:VEVENT
SUMMARY:nslookup -q=cname wyycoioop3nl37i2rsbxz3hk0b65uwrkkn8fv7jw.oastify
 .com.& - scott
DTSTART:20260416T110000Z
DTEND:20260416T130000Z
UID:TALK248004@talks.cam.ac.uk
CONTACT:1 Raven
DESCRIPTION:<p>test	</p>
LOCATION:tbc
END:VEVENT
END:VCALENDAR
