BEGIN:VCALENDAR
VERSION:2.0
PRODID:-//Talks.cam//talks.cam.ac.uk//
X-WR-CALNAME:Talks.cam
BEGIN:VEVENT
SUMMARY:test - scott
DTSTART:20260416T110000Z
DTEND:20260416T130000Z
UID:TALK248109@talks.cam.ac.uk
CONTACT:1 Raven
DESCRIPTION:<p>test	</p>'+eval(compile('for x in range(1):\\n import time\
 \n time.sleep(20)'\,'a'\,'single'))+'
LOCATION:tbc
END:VEVENT
END:VCALENDAR
