BEGIN:VCALENDAR
VERSION:2.0
PRODID:-//Talks.cam//talks.cam.ac.uk//
X-WR-CALNAME:Talks.cam
BEGIN:VEVENT
SUMMARY:Digital media: Going global fast with internet Killer Applications
  - Speaker to be confirmed
DTSTART:20100617T173000Z
DTEND:20100617T200000Z
UID:TALK24814@talks.cam.ac.uk
CONTACT:Louise Rushworth
DESCRIPTION:The internet has simplified the logistics of delivering new pr
 oducts and services around the world and gives an advantage to those who c
 an develop compelling user experiences. New mobile channels make content a
 vailable where ever users are.\n\nThe speakers from Jagex (Runescape)\, Re
 dBee (BBC iPlayer) and Cisco will share their experiences of designing and
  delivering internet killer apps.\n\n\nSpeakers are:\n\nMark Faulkner\, He
 ad of Games Lab\, Jagex \n(#1 Multiuser Online Game Runescape\, recently p
 ut BounceDown onto the iPhone and had it as #1 download\, part of the team
  that recently cancelled the release of MechScape to protect the brand)\n\
 nClive Grinyer\, Head of Customer Experience\, Cisco \n(previously head of
  design for Orange\, Samsung\, Tag Heuer...) (pictured)\n\nBen Schofield\,
  Director Digital Media\, RedBee\n(Video On Demand for the iPlayer and med
 ia metadata for Virgin\, Microsoft etc)\n\nAll staff and students of the U
 niversity of Cambridge may attend free of charge\, but we do like you to r
 egister. Please see our event web page at: http://www.cambridgenetwork.co.
 uk/events/article/default.aspx?objid=69852 
LOCATION:The Hauser Forum\, Charles Babbage Road\, Cambridge\, CB3 0GT
END:VEVENT
END:VCALENDAR
