BEGIN:VCALENDAR
VERSION:2.0
PRODID:-//Talks.cam//talks.cam.ac.uk//
X-WR-CALNAME:Talks.cam
BEGIN:VEVENT
SUMMARY:&quot\;Gastro Intestinal Stroma Tumours (GISTS)&quot\; - Dr Ramesh
  Bulusu\, Addenbrooke's Hospital
DTSTART:20100622T110000Z
DTEND:20100622T120000Z
UID:TALK24837@talks.cam.ac.uk
CONTACT:Mala Jayasundera
DESCRIPTION:Abstract not available
LOCATION:CRI Lecture Theatre
END:VEVENT
END:VCALENDAR
