BEGIN:VCALENDAR
VERSION:2.0
PRODID:-//Talks.cam//talks.cam.ac.uk//
X-WR-CALNAME:Talks.cam
BEGIN:VEVENT
SUMMARY:'Play out the play':  an active storytelling approach to Shakespea
 re with the under 12's - Sarah Gordon\, Artistic Director\, Young Shakespe
 are Company
DTSTART:20101020T160000Z
DTEND:20101020T180000Z
UID:TALK24912@talks.cam.ac.uk
CONTACT:Ewa Illakowicz
DESCRIPTION:I wrote the beginnings of an abstract for the leaflet. For som
 ething longer and more detailed about my session I would like to extend th
 e short paragraph  you already have on the website (which begins...'This r
 esearch seminar'  and ends 'the imaginative world of Shakespeare's plays'.
  Then\, to make it a fuller description it continues as follows :\n\n'Sara
 h Gordon will explore the educational principles behind active storytellin
 g and will show some filmed video footage of children who are actively inv
 olved in the Young Shakespeare Company's performance of "A Midsummer Night
 's Dream". Seminar participants will have the opportunity to gain a first-
 hand insight into the practical strategies of active storytelling and gain
  an understanding of how young children are creatively and imaginatively i
 nspired by their experience of being involved in Shakespeare's stories'\n\
 nBiog :\n\nSarah Gordon has a Master's Degree in Education and is the auth
 or of  "Active Approaches to Primary School Shakespeare" (1989). For the p
 ast 20 years Sarah has been the Artistic Director of the Young Shakespeare
  Company\, the pioneers of primary school Shakespeare. In addition to her 
 work for the Young Shakespeare Company\, Sarah has devised and led project
 s for many theatre companies including the National Theatre\, the English 
 Shakespeare Company\, the Orange Tree Theatre\, Regent's Park Open Air The
 atre and for Advisors across the country.\n
LOCATION:Faculty of Education\, 184 Hills Road\, Cambridge CB2 8PQ\, room 
 GS4
END:VEVENT
END:VCALENDAR
