BEGIN:VCALENDAR
VERSION:2.0
PRODID:-//Talks.cam//talks.cam.ac.uk//
X-WR-CALNAME:Talks.cam
BEGIN:VEVENT
SUMMARY:Balancing the Budget: Albedo and Heat Redistribution on Hot Jupite
 rs - Nick Cowan (U Washington)
DTSTART:20100915T121500Z
DTEND:20100915T124500Z
UID:TALK25340@talks.cam.ac.uk
CONTACT:Dr Jonathan Gair
DESCRIPTION:Abstract not available
LOCATION:Sackler Lecture Theatre\, IoA
END:VEVENT
END:VCALENDAR
