BEGIN:VCALENDAR
VERSION:2.0
PRODID:-//Talks.cam//talks.cam.ac.uk//
X-WR-CALNAME:Talks.cam
BEGIN:VEVENT
SUMMARY:Momentum balance in toroidal plasmas - Smolyakov\, A (University o
 f Saskatchewan)
DTSTART:20100722T133000Z
DTEND:20100722T140000Z
UID:TALK25577@talks.cam.ac.uk
CONTACT:Mustapha Amrani
DESCRIPTION:
LOCATION:Seminar Room 1\, Newton Institute
END:VEVENT
END:VCALENDAR
