BEGIN:VCALENDAR
VERSION:2.0
PRODID:-//Talks.cam//talks.cam.ac.uk//
X-WR-CALNAME:Talks.cam
BEGIN:VEVENT
SUMMARY:Naturally acquired PfEMP1-specific IgG responses and immunological
  protection from severe malaria in children. - Prof. Lars Hviid (Copenhage
 n)
DTSTART:20110302T170000Z
DTEND:20110302T180000Z
UID:TALK25686@talks.cam.ac.uk
CONTACT:Jean Rewrie
DESCRIPTION:Abstract not available
LOCATION:Seminar Room\, Department of Pathology
END:VEVENT
END:VCALENDAR
