BEGIN:VCALENDAR
VERSION:2.0
PRODID:-//Talks.cam//talks.cam.ac.uk//
X-WR-CALNAME:Talks.cam
BEGIN:VEVENT
SUMMARY:test - Adam Kudla (AGH\, Ponad)
DTSTART:20100809T100000Z
DTEND:20100809T110000Z
UID:TALK25789@talks.cam.ac.uk
CONTACT:Adam Kudla
DESCRIPTION:test  test
LOCATION:asdfasdf
END:VEVENT
END:VCALENDAR
