BEGIN:VCALENDAR
VERSION:2.0
PRODID:-//Talks.cam//talks.cam.ac.uk//
X-WR-CALNAME:Talks.cam
BEGIN:VEVENT
SUMMARY:The bacterial outer membrane: capturing the details with molecular
  dynamics simulations - Dr Syma Khalid\, School of Chemistry\, University 
 of Southampton
DTSTART:20101019T131500Z
DTEND:20101019T143000Z
UID:TALK25805@talks.cam.ac.uk
CONTACT:Susan Begg
DESCRIPTION:Abstract not available
LOCATION:Unilever Lecture Theatre\, Unilever Centre for Molecular Informat
 ics\, Dept. of Chemistry
END:VEVENT
END:VCALENDAR
