BEGIN:VCALENDAR
VERSION:2.0
PRODID:-//Talks.cam//talks.cam.ac.uk//
X-WR-CALNAME:Talks.cam
BEGIN:VEVENT
SUMMARY:CMS electricity usage: 9079.0 kWh on 11/08/10 - Previous day: 9147
 .0 kWh
DTSTART:20100813T000000Z
DTEND:20100813T010000Z
UID:TALK25824@talks.cam.ac.uk
CONTACT:Dankrad Feist
DESCRIPTION:
LOCATION:Average on weekdays: 8818.13207547 kWh
END:VEVENT
END:VCALENDAR
