BEGIN:VCALENDAR
VERSION:2.0
PRODID:-//Talks.cam//talks.cam.ac.uk//
X-WR-CALNAME:Talks.cam
BEGIN:VEVENT
SUMMARY:Full configuration interaction quantum Monte Carlo study of the un
 iform electron gas - James Shepherd (CUC3)
DTSTART:20101008T113000Z
DTEND:20101008T120000Z
UID:TALK26014@talks.cam.ac.uk
CONTACT:Dr Mark Miller
DESCRIPTION:Abstract not available
LOCATION:Pfizer Lecture Theatre\, Department of Chemistry
END:VEVENT
END:VCALENDAR
